BEGIN:VCALENDAR
VERSION:2.0
PRODID:-//La Humla Suse - ECPv6.13.2.1//NONSGML v1.0//EN
CALSCALE:GREGORIAN
METHOD:PUBLISH
X-ORIGINAL-URL:https://www.lahumlasuse.no
X-WR-CALDESC:Arrangement for La Humla Suse
REFRESH-INTERVAL;VALUE=DURATION:PT1H
X-Robots-Tag:noindex
X-PUBLISHED-TTL:PT1H
BEGIN:VTIMEZONE
TZID:Europe/Helsinki
BEGIN:DAYLIGHT
TZOFFSETFROM:+0200
TZOFFSETTO:+0300
TZNAME:EEST
DTSTART:20260329T010000
END:DAYLIGHT
BEGIN:STANDARD
TZOFFSETFROM:+0300
TZOFFSETTO:+0200
TZNAME:EET
DTSTART:20261025T010000
END:STANDARD
END:VTIMEZONE
BEGIN:VEVENT
DTSTART;TZID=Europe/Helsinki:20260202T170000
DTEND;TZID=Europe/Helsinki:20260202T190000
DTSTAMP:20260423T192142
CREATED:20260120T135934Z
LAST-MODIFIED:20260120T135934Z
UID:17308-1770051600-1770058800@www.lahumlasuse.no
SUMMARY:Styremøte
DESCRIPTION:Styret i La Humla Suse møtes jevnlig for å følge opp organisasjonens aktiviteter
URL:https://www.lahumlasuse.no/kalender/styremote/
END:VEVENT
END:VCALENDAR