BEGIN:VCALENDAR
VERSION:2.0
PRODID:-//La Humla Suse - ECPv6.13.2.1//NONSGML v1.0//EN
CALSCALE:GREGORIAN
METHOD:PUBLISH
X-ORIGINAL-URL:https://www.lahumlasuse.no
X-WR-CALDESC:Arrangement for La Humla Suse
REFRESH-INTERVAL;VALUE=DURATION:PT1H
X-Robots-Tag:noindex
X-PUBLISHED-TTL:PT1H
BEGIN:VTIMEZONE
TZID:Europe/Helsinki
BEGIN:DAYLIGHT
TZOFFSETFROM:+0200
TZOFFSETTO:+0300
TZNAME:EEST
DTSTART:20260329T010000
END:DAYLIGHT
BEGIN:STANDARD
TZOFFSETFROM:+0300
TZOFFSETTO:+0200
TZNAME:EET
DTSTART:20261025T010000
END:STANDARD
END:VTIMEZONE
BEGIN:VEVENT
DTSTART;TZID=Europe/Helsinki:20260615T170000
DTEND;TZID=Europe/Helsinki:20260615T210000
DTSTAMP:20260423T161658
CREATED:20260410T194933Z
LAST-MODIFIED:20260410T194933Z
UID:17598-1781542800-1781557200@www.lahumlasuse.no
SUMMARY:Trøndelag\, Instruktørkurs 2026
DESCRIPTION:La Humla Suse Trøndelag inviterer til instruktørkurs\, teoridel
URL:https://www.lahumlasuse.no/kalender/trondelag-instruktorkurs-2026/
LOCATION:Ringve botaniske hage\, Administrasjonsbygget\, Lade Alle 58\, Trondheim\, Norway
ORGANIZER;CN="La Humla Suse%3A Tr%C3%B8ndelag":MAILTO:trondelag@lahumlasuse.no
END:VEVENT
END:VCALENDAR