BEGIN:VCALENDAR
VERSION:2.0
PRODID:-//La Humla Suse - ECPv6.13.2.1//NONSGML v1.0//EN
CALSCALE:GREGORIAN
METHOD:PUBLISH
X-WR-CALNAME:La Humla Suse
X-ORIGINAL-URL:https://www.lahumlasuse.no
X-WR-CALDESC:Arrangement for La Humla Suse
REFRESH-INTERVAL;VALUE=DURATION:PT1H
X-Robots-Tag:noindex
X-PUBLISHED-TTL:PT1H
BEGIN:VTIMEZONE
TZID:Europe/Helsinki
BEGIN:DAYLIGHT
TZOFFSETFROM:+0200
TZOFFSETTO:+0300
TZNAME:EEST
DTSTART:20260329T010000
END:DAYLIGHT
BEGIN:STANDARD
TZOFFSETFROM:+0300
TZOFFSETTO:+0200
TZNAME:EET
DTSTART:20261025T010000
END:STANDARD
END:VTIMEZONE
BEGIN:VEVENT
DTSTART;VALUE=DATE:20260410
DTEND;VALUE=DATE:20260413
DTSTAMP:20260423T161731
CREATED:20260120T140149Z
LAST-MODIFIED:20260120T140149Z
UID:17312-1775779200-1776038399@www.lahumlasuse.no
SUMMARY:Hagemessen 2026
DESCRIPTION:Vi kommer på Hagemessen 2026 i Lillestrøm – kommer du?
URL:https://www.lahumlasuse.no/kalender/hagemessen-2026/
LOCATION:Nova Spektrum\, Messeveien 8\, Oslo\, Lillestrøm\, 2004\, Norge
END:VEVENT
END:VCALENDAR